BEGIN:VCALENDAR
VERSION:2.0
PRODID:-//Consejo Andaluz de Administradores de Fincas - ECPv6.15.20//NONSGML v1.0//EN
CALSCALE:GREGORIAN
METHOD:PUBLISH
X-WR-CALNAME:Consejo Andaluz de Administradores de Fincas
X-ORIGINAL-URL:https://www.cafincas.org
X-WR-CALDESC:Eventos para Consejo Andaluz de Administradores de Fincas
REFRESH-INTERVAL;VALUE=DURATION:PT1H
X-Robots-Tag:noindex
X-PUBLISHED-TTL:PT1H
BEGIN:VTIMEZONE
TZID:Europe/Madrid
BEGIN:DAYLIGHT
TZOFFSETFROM:+0100
TZOFFSETTO:+0200
TZNAME:CEST
DTSTART:20200329T010000
END:DAYLIGHT
BEGIN:STANDARD
TZOFFSETFROM:+0200
TZOFFSETTO:+0100
TZNAME:CET
DTSTART:20201025T010000
END:STANDARD
BEGIN:DAYLIGHT
TZOFFSETFROM:+0100
TZOFFSETTO:+0200
TZNAME:CEST
DTSTART:20210328T010000
END:DAYLIGHT
BEGIN:STANDARD
TZOFFSETFROM:+0200
TZOFFSETTO:+0100
TZNAME:CET
DTSTART:20211031T010000
END:STANDARD
BEGIN:DAYLIGHT
TZOFFSETFROM:+0100
TZOFFSETTO:+0200
TZNAME:CEST
DTSTART:20220327T010000
END:DAYLIGHT
BEGIN:STANDARD
TZOFFSETFROM:+0200
TZOFFSETTO:+0100
TZNAME:CET
DTSTART:20221030T010000
END:STANDARD
END:VTIMEZONE
BEGIN:VEVENT
DTSTART;TZID=Europe/Madrid:20210408T190000
DTEND;TZID=Europe/Madrid:20210408T210000
DTSTAMP:20260425T210607
CREATED:20210318T093831Z
LAST-MODIFIED:20210318T093831Z
UID:3949-1617908400-1617915600@www.cafincas.org
SUMMARY:Cursos Primavera Webinar 2021: La prevención de riesgos laborales en las comunidades de propietarios\, obligaciones\, obras y responsabilidades. (charla eminentemente práctica)
DESCRIPTION:Debe estar identificado para acceder a esta sección\n 
URL:https://www.cafincas.org/event/cursos-primavera-webinar-2021-la-prevencion-de-riesgos-laborales-en-las-comunidades-de-propietarios-obligaciones-obras-y-responsabilidades-charla-eminentemente-practica/
CATEGORIES:Consejo
END:VEVENT
BEGIN:VEVENT
DTSTART;TZID=Europe/Madrid:20210408T193000
DTEND;TZID=Europe/Madrid:20210408T213000
DTSTAMP:20260425T210607
CREATED:20210317T115414Z
LAST-MODIFIED:20210324T095042Z
UID:3927-1617910200-1617917400@www.cafincas.org
SUMMARY:CAFCADIZ - CURSO ONLINE: "ANÁLISIS DE LOS DELITOS CONTRA PROPIEDADES INMUEBLES\, ESPECIAL ATENCIÓN A LOS DELITOS DE OCUPACIÓN Y A LA COORDINACIÓN ENTRE ADMINISTRADORES DE FINCAS Y CNP""
DESCRIPTION:Debe estar identificado para acceder a esta sección\n 
URL:https://www.cafincas.org/event/curso-online-okupas/
CATEGORIES:Consejo
END:VEVENT
BEGIN:VEVENT
DTSTART;TZID=Europe/Madrid:20210409T193000
DTEND;TZID=Europe/Madrid:20210409T213000
DTSTAMP:20260425T210607
CREATED:20210405T160028Z
LAST-MODIFIED:20210405T160413Z
UID:4012-1617996600-1618003800@www.cafincas.org
SUMMARY:CAF ALMERIA-CURSO BASICO PROPIEDAD HORIZONTAL. MODULO 2: ELEMENTOS COMUNES Y ELEMENTOS PRIVATIVOS. PONENTE: ISABEL GOMEZ GARCIA (ASESORIA JURIDICA CAF ALMERIA)
DESCRIPTION:Debe estar identificado para acceder a esta sección\n 
URL:https://www.cafincas.org/event/caf-almeria-curso-basico-propiedad-horizontal/
CATEGORIES:Consejo
END:VEVENT
BEGIN:VEVENT
DTSTART;TZID=Europe/Madrid:20210413T203000
DTEND;TZID=Europe/Madrid:20210413T213000
DTSTAMP:20260425T210607
CREATED:20210413T182225Z
LAST-MODIFIED:20210528T073347Z
UID:4027-1618345800-1618349400@www.cafincas.org
SUMMARY:13 de Abril  18.00 "Obligaciones y Responsabilidad civil de las Comunidades de Propietarios y sus órganos
DESCRIPTION:Debe estar identificado para acceder a esta sección\n 
URL:https://www.cafincas.org/event/13-de-abril-18-00-obligaciones-y-responsabilidad-civil-de-las-comunidades-de-propietarios-y-sus-organos/
CATEGORIES:Consejo
END:VEVENT
BEGIN:VEVENT
DTSTART;TZID=Europe/Madrid:20210415T190000
DTEND;TZID=Europe/Madrid:20210415T210000
DTSTAMP:20260425T210607
CREATED:20210318T094159Z
LAST-MODIFIED:20210318T094159Z
UID:3951-1618513200-1618520400@www.cafincas.org
SUMMARY:Cursos Primavera Webinar 2021: Resolución de conflictos en línea: La cibermediación y su aplicación a la propiedad horizontal
DESCRIPTION:Debe estar identificado para acceder a esta sección\n 
URL:https://www.cafincas.org/event/cursos-primavera-webinar-2021-resolucion-de-conflictos-en-linea-la-cibermediacion-y-su-aplicacion-a-la-propiedad-horizontal/
CATEGORIES:Consejo
END:VEVENT
BEGIN:VEVENT
DTSTART;TZID=Europe/Madrid:20210422T190000
DTEND;TZID=Europe/Madrid:20210422T210000
DTSTAMP:20260425T210607
CREATED:20210318T094308Z
LAST-MODIFIED:20210318T094308Z
UID:3953-1619118000-1619125200@www.cafincas.org
SUMMARY:Cursos Primavera Webinar 2021: Marketing para despachos de administradores de fincas
DESCRIPTION:Debe estar identificado para acceder a esta sección\n 
URL:https://www.cafincas.org/event/cursos-primavera-webinar-2021-marketing-para-despachos-de-administradores-de-fincas/
CATEGORIES:Consejo
END:VEVENT
BEGIN:VEVENT
DTSTART;TZID=Europe/Madrid:20210423T143000
DTEND;TZID=Europe/Madrid:20210423T160000
DTSTAMP:20260425T210607
CREATED:20210413T183216Z
LAST-MODIFIED:20210528T073324Z
UID:4036-1619188200-1619193600@www.cafincas.org
SUMMARY:Coaf Huelva Cata "Taller Promocional Vinos del Condado de Huelva
DESCRIPTION:Debe estar identificado para acceder a esta sección\n 
URL:https://www.cafincas.org/event/coaf-huelva-cata-taller-promocional-vinos-del-condado-de-huelva/
CATEGORIES:Consejo
END:VEVENT
BEGIN:VEVENT
DTSTART;TZID=Europe/Madrid:20210423T193000
DTEND;TZID=Europe/Madrid:20210423T213000
DTSTAMP:20260425T210607
CREATED:20210419T170145Z
LAST-MODIFIED:20210419T170430Z
UID:4047-1619206200-1619213400@www.cafincas.org
SUMMARY:CAF ALMERIA-CURSO PROPIEDAD HORIZONTAL. MODULO 3. OBRAS PRIVATIVAS.
DESCRIPTION:Debe estar identificado para acceder a esta sección\n 
URL:https://www.cafincas.org/event/caf-almeria-curso-propiedad-horizontal-modulo-3-obras-privativas-ponente-isable-gomez-garcia-asesoria-juridica-caf-almeria/
CATEGORIES:Consejo
END:VEVENT
BEGIN:VEVENT
DTSTART;TZID=Europe/Madrid:20210428T140000
DTEND;TZID=Europe/Madrid:20210428T160000
DTSTAMP:20260425T210607
CREATED:20210408T081834Z
LAST-MODIFIED:20210408T081834Z
UID:4019-1619618400-1619625600@www.cafincas.org
SUMMARY:Webinar ICIRED morosos de las comunidades de propietarios
DESCRIPTION:Debe estar identificado para acceder a esta sección\n 
URL:https://www.cafincas.org/event/webinar-icired-morosos-de-las-comunidades-de-propietarios/
CATEGORIES:Consejo
END:VEVENT
BEGIN:VEVENT
DTSTART;TZID=Europe/Madrid:20210430T193000
DTEND;TZID=Europe/Madrid:20210430T213000
DTSTAMP:20260425T210607
CREATED:20210427T164132Z
LAST-MODIFIED:20210427T164208Z
UID:4059-1619811000-1619818200@www.cafincas.org
SUMMARY:CAF ALMERIA-CURSO PROPIEDAD HORIZONTAL. MODULO 4. DERECHOS Y OBLIGACIONES. LAS ACTIVIDADES PROHIBIDAS.
DESCRIPTION:Debe estar identificado para acceder a esta sección\n 
URL:https://www.cafincas.org/event/caf-almeria-curso-propiedad-horizontal-modulo-4-derechos-y-obligaciones-las-actividades-prohibidas/
CATEGORIES:Consejo
END:VEVENT
END:VCALENDAR