BEGIN:VCALENDAR
VERSION:2.0
PRODID:-//Consejo Andaluz de Administradores de Fincas - ECPv6.15.20//NONSGML v1.0//EN
CALSCALE:GREGORIAN
METHOD:PUBLISH
X-WR-CALNAME:Consejo Andaluz de Administradores de Fincas
X-ORIGINAL-URL:https://www.cafincas.org
X-WR-CALDESC:Eventos para Consejo Andaluz de Administradores de Fincas
REFRESH-INTERVAL;VALUE=DURATION:PT1H
X-Robots-Tag:noindex
X-PUBLISHED-TTL:PT1H
BEGIN:VTIMEZONE
TZID:Europe/Madrid
BEGIN:DAYLIGHT
TZOFFSETFROM:+0100
TZOFFSETTO:+0200
TZNAME:CEST
DTSTART:20200329T010000
END:DAYLIGHT
BEGIN:STANDARD
TZOFFSETFROM:+0200
TZOFFSETTO:+0100
TZNAME:CET
DTSTART:20201025T010000
END:STANDARD
BEGIN:DAYLIGHT
TZOFFSETFROM:+0100
TZOFFSETTO:+0200
TZNAME:CEST
DTSTART:20210328T010000
END:DAYLIGHT
BEGIN:STANDARD
TZOFFSETFROM:+0200
TZOFFSETTO:+0100
TZNAME:CET
DTSTART:20211031T010000
END:STANDARD
BEGIN:DAYLIGHT
TZOFFSETFROM:+0100
TZOFFSETTO:+0200
TZNAME:CEST
DTSTART:20220327T010000
END:DAYLIGHT
BEGIN:STANDARD
TZOFFSETFROM:+0200
TZOFFSETTO:+0100
TZNAME:CET
DTSTART:20221030T010000
END:STANDARD
END:VTIMEZONE
BEGIN:VEVENT
DTSTART;TZID=Europe/Madrid:20210602T120000
DTEND;TZID=Europe/Madrid:20210602T140000
DTSTAMP:20260425T160729
CREATED:20210519T180627Z
LAST-MODIFIED:20210524T151721Z
UID:4169-1622635200-1622642400@www.cafincas.org
SUMMARY:CAF ALMERIA. JORNADA FORMATIVA "ACTUALIZACION DE LOS CRITERIOS TECNICO-SANITARIOS EN PISCINAS COMUNITARIAS. MEDIDAS FRENTE COVID-19"
DESCRIPTION:Debe estar identificado para acceder a esta sección\n 
URL:https://www.cafincas.org/event/jornada-formativa-actualizacion-de-los-criterios-tecnico-sanitarios-en-piscinas-comunitarias-medidas-frente-covid-19/
LOCATION:Salón de Actos Delegación Territorial de Salud y Familias\, Ctra. de Ronda\, 101\, Almería\, Almería\, 04005\, España
CATEGORIES:Consejo
END:VEVENT
BEGIN:VEVENT
DTSTART;TZID=Europe/Madrid:20210603T190000
DTEND;TZID=Europe/Madrid:20210603T200000
DTSTAMP:20260425T160729
CREATED:20210524T050643Z
LAST-MODIFIED:20210524T050657Z
UID:4176-1622746800-1622750400@www.cafincas.org
SUMMARY:CAFCADIZ: WEBINAR "CONOCE LOS CAMBIOS EN LA TARIFA DE LA LUZ QUE SE APLICAN DESDE EL 1 DE JUNIO DE 2021"
DESCRIPTION:Debe estar identificado para acceder a esta sección\n 
URL:https://www.cafincas.org/event/conoce-los-cambios-en-la-tarifa-de-la-luz-que-se-aplican-desde-el-1-de-junio-de-2021/
CATEGORIES:Consejo
END:VEVENT
BEGIN:VEVENT
DTSTART;TZID=Europe/Madrid:20210604T130000
DTEND;TZID=Europe/Madrid:20210604T150000
DTSTAMP:20260425T160729
CREATED:20210528T071516Z
LAST-MODIFIED:20220216T070716Z
UID:4204-1622811600-1622818800@www.cafincas.org
SUMMARY:COAF Huelva Formación Firma Digital - Comunicaciones Digitales - Protección de Datos en CCPP / BEGALVI ASESORES LEGALES
DESCRIPTION:Debe estar identificado para acceder a esta sección\n 
URL:https://www.cafincas.org/event/caf-huelva-formacion-firma-digital-comunicaciones-digitales-proteccion-de-datos-en-ccpp-begalvi-asesores-legales/
CATEGORIES:Consejo
END:VEVENT
BEGIN:VEVENT
DTSTART;TZID=Europe/Madrid:20210610T130000
DTEND;TZID=Europe/Madrid:20210610T140000
DTSTAMP:20260425T160729
CREATED:20210607T070207Z
LAST-MODIFIED:20220216T070649Z
UID:4223-1623330000-1623333600@www.cafincas.org
SUMMARY:COAF HUELVA Normativa en Vigor sobre piscinas de uso colectivo. D Luis Fernando Rubiales. Inspector Junta de Andalucia.
DESCRIPTION:Debe estar identificado para acceder a esta sección\n 
URL:https://www.cafincas.org/event/caf-huelva-normativa-en-vigor-sobre-piscinas-de-uso-colectivo-d-luis-fernando-rubiales-inspector-junta-de-andalucia/
CATEGORIES:Consejo
END:VEVENT
BEGIN:VEVENT
DTSTART;TZID=Europe/Madrid:20210610T193000
DTEND;TZID=Europe/Madrid:20210610T213000
DTSTAMP:20260425T160729
CREATED:20210606T150703Z
LAST-MODIFIED:20210606T150703Z
UID:4219-1623353400-1623360600@www.cafincas.org
SUMMARY:CAF ALMERIA. TALLER ZOOM. "LEGITIMACION PARA PLEITOS DEL PRESIDENTE DE LA COMUNIDAD"
DESCRIPTION:Debe estar identificado para acceder a esta sección\n 
URL:https://www.cafincas.org/event/caf-almeria-taller-zoom-legitimacion-para-pleitos-del-presidente-de-la-comunidad/
CATEGORIES:Consejo
END:VEVENT
BEGIN:VEVENT
DTSTART;TZID=Europe/Madrid:20210622T190000
DTEND;TZID=Europe/Madrid:20210622T210000
DTSTAMP:20260425T160729
CREATED:20210621T165225Z
LAST-MODIFIED:20210621T165603Z
UID:4230-1624388400-1624395600@www.cafincas.org
SUMMARY:CAF ALMERIA. REUNION INFORMATIVA "PLAN ESTRATEGICO CGCAFE". ZOOM
DESCRIPTION:Debe estar identificado para acceder a esta sección\n 
URL:https://www.cafincas.org/event/reunion-informativa-plan-estrategico-cgcafe-zoom/
CATEGORIES:Consejo
END:VEVENT
BEGIN:VEVENT
DTSTART;TZID=Europe/Madrid:20210629T193000
DTEND;TZID=Europe/Madrid:20210629T213000
DTSTAMP:20260425T160729
CREATED:20210621T165502Z
LAST-MODIFIED:20210621T165517Z
UID:4232-1624995000-1625002200@www.cafincas.org
SUMMARY:CAF ALMERIA. CURSO BASICO PROPIEDAD HORIZONTAL. (ZOOM). MODULO 7 "PROCESOS JUDICIALES: ACCION DE CESACION"
DESCRIPTION:Debe estar identificado para acceder a esta sección\n 
URL:https://www.cafincas.org/event/curso-basico-propiedad-horizontal-zoom-modulo-7-procesos-judiciales-accion-de-cesacion/
CATEGORIES:Consejo
END:VEVENT
END:VCALENDAR