BEGIN:VCALENDAR
VERSION:2.0
PRODID:-//Consejo Andaluz de Administradores de Fincas - ECPv6.15.20//NONSGML v1.0//EN
CALSCALE:GREGORIAN
METHOD:PUBLISH
X-ORIGINAL-URL:https://www.cafincas.org
X-WR-CALDESC:Eventos para Consejo Andaluz de Administradores de Fincas
REFRESH-INTERVAL;VALUE=DURATION:PT1H
X-Robots-Tag:noindex
X-PUBLISHED-TTL:PT1H
BEGIN:VTIMEZONE
TZID:Europe/Madrid
BEGIN:DAYLIGHT
TZOFFSETFROM:+0100
TZOFFSETTO:+0200
TZNAME:CEST
DTSTART:20200329T010000
END:DAYLIGHT
BEGIN:STANDARD
TZOFFSETFROM:+0200
TZOFFSETTO:+0100
TZNAME:CET
DTSTART:20201025T010000
END:STANDARD
BEGIN:DAYLIGHT
TZOFFSETFROM:+0100
TZOFFSETTO:+0200
TZNAME:CEST
DTSTART:20210328T010000
END:DAYLIGHT
BEGIN:STANDARD
TZOFFSETFROM:+0200
TZOFFSETTO:+0100
TZNAME:CET
DTSTART:20211031T010000
END:STANDARD
BEGIN:DAYLIGHT
TZOFFSETFROM:+0100
TZOFFSETTO:+0200
TZNAME:CEST
DTSTART:20220327T010000
END:DAYLIGHT
BEGIN:STANDARD
TZOFFSETFROM:+0200
TZOFFSETTO:+0100
TZNAME:CET
DTSTART:20221030T010000
END:STANDARD
END:VTIMEZONE
BEGIN:VEVENT
DTSTART;TZID=Europe/Madrid:20211014T200000
DTEND;TZID=Europe/Madrid:20211014T220000
DTSTAMP:20260423T173056
CREATED:20211006T062200Z
LAST-MODIFIED:20211006T062200Z
UID:4335-1634241600-1634248800@www.cafincas.org
SUMMARY:Día del Presidente de la comunidad de propietarios de Sevilla
DESCRIPTION:Debe estar identificado para acceder a esta sección\n 
URL:https://www.cafincas.org/event/dia-del-presidente-de-la-comunidad-de-propietarios-de-sevilla/
CATEGORIES:Consejo
END:VEVENT
BEGIN:VEVENT
DTSTART;TZID=Europe/Madrid:20211015T130000
DTEND;TZID=Europe/Madrid:20211015T150000
DTSTAMP:20260423T173056
CREATED:20211004T081025Z
LAST-MODIFIED:20220216T070626Z
UID:4323-1634302800-1634310000@www.cafincas.org
SUMMARY:COAF HUELVA: FORMACION "DEFENSA Y ARGUMENTACION DEL PRECIO EN EL SRVICIO DEL ADMINISTRADOR DE FINCAS" POR SILVIA ELENA GARCIA GARCIA - WEBIMAR
DESCRIPTION:Debe estar identificado para acceder a esta sección\n 
URL:https://www.cafincas.org/event/caf-huelva-formacion-defensa-y-argumentacion-del-precio-en-el-srvicio-del-administrador-de-fincas-por-silvia-elena-garcia-garcia-webimar/
CATEGORIES:Consejo
END:VEVENT
BEGIN:VEVENT
DTSTART;TZID=Europe/Madrid:20211021T190000
DTEND;TZID=Europe/Madrid:20211021T210000
DTSTAMP:20260423T173056
CREATED:20211006T060128Z
LAST-MODIFIED:20211006T060140Z
UID:4325-1634842800-1634850000@www.cafincas.org
SUMMARY:Curso de Otoño webinar 2021: La digitalización y optimización de los despachos profesionales
DESCRIPTION:Debe estar identificado para acceder a esta sección\n 
URL:https://www.cafincas.org/event/curso-de-otono-webinar-2021-la-digitalizacion-y-optimizacion-de-los-despachos-profesionales/
CATEGORIES:Consejo
END:VEVENT
BEGIN:VEVENT
DTSTART;TZID=Europe/Madrid:20211022T113000
DTEND;TZID=Europe/Madrid:20211022T183000
DTSTAMP:20260423T173056
CREATED:20211007T072357Z
LAST-MODIFIED:20211007T072552Z
UID:4339-1634902200-1634927400@www.cafincas.org
SUMMARY:CAFCADIZ: III CURSO DE FORMACIÓN Y PERFECCIONAMIENTO "PACO GIL": LAS AVENTURAS DEL AFC- 6 CLAVES PARA UN TRABAJO MÁS EFECTIVO
DESCRIPTION:Debe estar identificado para acceder a esta sección\n 
URL:https://www.cafincas.org/event/iii-curso-de-formacion-y-perfeccionamiento-paco-gil-las-aventuras-del-afc-6-claves-para-un-trabajo-mas-efectivo/
CATEGORIES:Consejo
END:VEVENT
BEGIN:VEVENT
DTSTART;TZID=Europe/Madrid:20211028T190000
DTEND;TZID=Europe/Madrid:20211028T200000
DTSTAMP:20260423T173056
CREATED:20211006T060355Z
LAST-MODIFIED:20211006T060355Z
UID:4327-1635447600-1635451200@www.cafincas.org
SUMMARY:Cursos de Otoño webinar 2021: La factura de la luz\, cómo interpretarla y optimizar el contrato con las comercializadoras de energía
DESCRIPTION:Debe estar identificado para acceder a esta sección\n 
URL:https://www.cafincas.org/event/cursos-de-otono-webinar-2021-la-factura-de-la-luz-como-interpretarla-y-optimizar-el-contrato-con-las-comercializadoras-de-energia/
CATEGORIES:Consejo
END:VEVENT
BEGIN:VEVENT
DTSTART;TZID=Europe/Madrid:20211028T200000
DTEND;TZID=Europe/Madrid:20211028T210000
DTSTAMP:20260423T173056
CREATED:20211006T060453Z
LAST-MODIFIED:20211006T060453Z
UID:4329-1635451200-1635454800@www.cafincas.org
SUMMARY:Cursos de Otoño webinar 2021: Las placas solares para las comunidades de propietarios
DESCRIPTION:Debe estar identificado para acceder a esta sección\n 
URL:https://www.cafincas.org/event/cursos-de-otono-webinar-2021-las-placas-solares-para-las-comunidades-de-propietarios/
CATEGORIES:Consejo
END:VEVENT
END:VCALENDAR