BEGIN:VCALENDAR
VERSION:2.0
PRODID:-//Consejo Andaluz de Administradores de Fincas - ECPv6.15.20//NONSGML v1.0//EN
CALSCALE:GREGORIAN
METHOD:PUBLISH
X-WR-CALNAME:Consejo Andaluz de Administradores de Fincas
X-ORIGINAL-URL:https://www.cafincas.org
X-WR-CALDESC:Eventos para Consejo Andaluz de Administradores de Fincas
REFRESH-INTERVAL;VALUE=DURATION:PT1H
X-Robots-Tag:noindex
X-PUBLISHED-TTL:PT1H
BEGIN:VTIMEZONE
TZID:Europe/Madrid
BEGIN:DAYLIGHT
TZOFFSETFROM:+0100
TZOFFSETTO:+0200
TZNAME:CEST
DTSTART:20210328T010000
END:DAYLIGHT
BEGIN:STANDARD
TZOFFSETFROM:+0200
TZOFFSETTO:+0100
TZNAME:CET
DTSTART:20211031T010000
END:STANDARD
BEGIN:DAYLIGHT
TZOFFSETFROM:+0100
TZOFFSETTO:+0200
TZNAME:CEST
DTSTART:20220327T010000
END:DAYLIGHT
BEGIN:STANDARD
TZOFFSETFROM:+0200
TZOFFSETTO:+0100
TZNAME:CET
DTSTART:20221030T010000
END:STANDARD
BEGIN:DAYLIGHT
TZOFFSETFROM:+0100
TZOFFSETTO:+0200
TZNAME:CEST
DTSTART:20230326T010000
END:DAYLIGHT
BEGIN:STANDARD
TZOFFSETFROM:+0200
TZOFFSETTO:+0100
TZNAME:CET
DTSTART:20231029T010000
END:STANDARD
END:VTIMEZONE
BEGIN:VEVENT
DTSTART;TZID=Europe/Madrid:20220727T190000
DTEND;TZID=Europe/Madrid:20220727T200000
DTSTAMP:20260423T010505
CREATED:20220722T082303Z
LAST-MODIFIED:20220722T082303Z
UID:4708-1658948400-1658952000@www.cafincas.org
SUMMARY:CAF ALMERIA. Webinar Jornada Formativa: subvenciones para la elaboración del libro del edificio y para la rehabilitación a nivel edificio
DESCRIPTION:Debe estar identificado para acceder a esta sección\n 
URL:https://www.cafincas.org/event/caf-almeria-webinar-jornada-formativa-subvenciones-para-la-elaboracion-del-libro-del-edificio-y-para-la-rehabilitacion-a-nivel-edificio/
CATEGORIES:Consejo
END:VEVENT
END:VCALENDAR