BEGIN:VCALENDAR
VERSION:2.0
PRODID:-//Consejo Andaluz de Administradores de Fincas - ECPv6.15.20//NONSGML v1.0//EN
CALSCALE:GREGORIAN
METHOD:PUBLISH
X-ORIGINAL-URL:https://www.cafincas.org
X-WR-CALDESC:Eventos para Consejo Andaluz de Administradores de Fincas
REFRESH-INTERVAL;VALUE=DURATION:PT1H
X-Robots-Tag:noindex
X-PUBLISHED-TTL:PT1H
BEGIN:VTIMEZONE
TZID:Europe/Madrid
BEGIN:DAYLIGHT
TZOFFSETFROM:+0100
TZOFFSETTO:+0200
TZNAME:CEST
DTSTART:20220327T010000
END:DAYLIGHT
BEGIN:STANDARD
TZOFFSETFROM:+0200
TZOFFSETTO:+0100
TZNAME:CET
DTSTART:20221030T010000
END:STANDARD
BEGIN:DAYLIGHT
TZOFFSETFROM:+0100
TZOFFSETTO:+0200
TZNAME:CEST
DTSTART:20230326T010000
END:DAYLIGHT
BEGIN:STANDARD
TZOFFSETFROM:+0200
TZOFFSETTO:+0100
TZNAME:CET
DTSTART:20231029T010000
END:STANDARD
BEGIN:DAYLIGHT
TZOFFSETFROM:+0100
TZOFFSETTO:+0200
TZNAME:CEST
DTSTART:20240331T010000
END:DAYLIGHT
BEGIN:STANDARD
TZOFFSETFROM:+0200
TZOFFSETTO:+0100
TZNAME:CET
DTSTART:20241027T010000
END:STANDARD
END:VTIMEZONE
BEGIN:VEVENT
DTSTART;TZID=Europe/Madrid:20230109T160000
DTEND;TZID=Europe/Madrid:20230109T170000
DTSTAMP:20260422T123118
CREATED:20230509T104403Z
LAST-MODIFIED:20230509T104403Z
UID:5073-1673280000-1673283600@www.cafincas.org
SUMMARY:COAF HUELVA: AEAT Sesión informativa sobre cambios normativos en la confección y presentación del MOD 190/22 y otras declaraciones....
DESCRIPTION:Debe estar identificado para acceder a esta sección\n 
URL:https://www.cafincas.org/event/coaf-huelva-aeat-sesion-informativa-sobre-cambios-normativos-en-la-confeccion-y-presentacion-del-mod-190-22-y-otras-declaraciones/
CATEGORIES:Consejo
END:VEVENT
END:VCALENDAR