BEGIN:VCALENDAR
VERSION:2.0
PRODID:-//Consejo Andaluz de Administradores de Fincas - ECPv6.15.20//NONSGML v1.0//EN
CALSCALE:GREGORIAN
METHOD:PUBLISH
X-WR-CALNAME:Consejo Andaluz de Administradores de Fincas
X-ORIGINAL-URL:https://www.cafincas.org
X-WR-CALDESC:Eventos para Consejo Andaluz de Administradores de Fincas
REFRESH-INTERVAL;VALUE=DURATION:PT1H
X-Robots-Tag:noindex
X-PUBLISHED-TTL:PT1H
BEGIN:VTIMEZONE
TZID:Europe/Madrid
BEGIN:DAYLIGHT
TZOFFSETFROM:+0100
TZOFFSETTO:+0200
TZNAME:CEST
DTSTART:20200329T010000
END:DAYLIGHT
BEGIN:STANDARD
TZOFFSETFROM:+0200
TZOFFSETTO:+0100
TZNAME:CET
DTSTART:20201025T010000
END:STANDARD
BEGIN:DAYLIGHT
TZOFFSETFROM:+0100
TZOFFSETTO:+0200
TZNAME:CEST
DTSTART:20210328T010000
END:DAYLIGHT
BEGIN:STANDARD
TZOFFSETFROM:+0200
TZOFFSETTO:+0100
TZNAME:CET
DTSTART:20211031T010000
END:STANDARD
BEGIN:DAYLIGHT
TZOFFSETFROM:+0100
TZOFFSETTO:+0200
TZNAME:CEST
DTSTART:20220327T010000
END:DAYLIGHT
BEGIN:STANDARD
TZOFFSETFROM:+0200
TZOFFSETTO:+0100
TZNAME:CET
DTSTART:20221030T010000
END:STANDARD
END:VTIMEZONE
BEGIN:VEVENT
DTSTART;TZID=Europe/Madrid:20210312T123000
DTEND;TZID=Europe/Madrid:20210312T133000
DTSTAMP:20260425T225744
CREATED:20210413T182800Z
LAST-MODIFIED:20210528T073328Z
UID:4032-1615552200-1615555800@www.cafincas.org
SUMMARY:COAF Huelva Instalación de puntos de recarga de suministro eléctrico en las comunidades de propietarios .
DESCRIPTION:Debe estar identificado para acceder a esta sección\n 
URL:https://www.cafincas.org/event/coaf-huelva-%f0%9d%99%a3%f0%9d%99%a8%f0%9d%99%a9%f0%9d%99%96%f0%9d%99%a1%f0%9d%99%96%f0%9d%99%98%f0%9d%99%9e%f0%9d%99%a4%f0%9d%99%a3-%f0%9d%99%99%f0%9d%99%9a-%f0%9d%99%a5%f0%9d%99%aa%f0%9d%99%a3/
CATEGORIES:Consejo
END:VEVENT
END:VCALENDAR