BEGIN:VCALENDAR
VERSION:2.0
PRODID:-//Consejo Andaluz de Administradores de Fincas - ECPv6.15.20//NONSGML v1.0//EN
CALSCALE:GREGORIAN
METHOD:PUBLISH
X-ORIGINAL-URL:https://www.cafincas.org
X-WR-CALDESC:Eventos para Consejo Andaluz de Administradores de Fincas
REFRESH-INTERVAL;VALUE=DURATION:PT1H
X-Robots-Tag:noindex
X-PUBLISHED-TTL:PT1H
BEGIN:VTIMEZONE
TZID:Europe/Madrid
BEGIN:DAYLIGHT
TZOFFSETFROM:+0100
TZOFFSETTO:+0200
TZNAME:CEST
DTSTART:20200329T010000
END:DAYLIGHT
BEGIN:STANDARD
TZOFFSETFROM:+0200
TZOFFSETTO:+0100
TZNAME:CET
DTSTART:20201025T010000
END:STANDARD
BEGIN:DAYLIGHT
TZOFFSETFROM:+0100
TZOFFSETTO:+0200
TZNAME:CEST
DTSTART:20210328T010000
END:DAYLIGHT
BEGIN:STANDARD
TZOFFSETFROM:+0200
TZOFFSETTO:+0100
TZNAME:CET
DTSTART:20211031T010000
END:STANDARD
BEGIN:DAYLIGHT
TZOFFSETFROM:+0100
TZOFFSETTO:+0200
TZNAME:CEST
DTSTART:20220327T010000
END:DAYLIGHT
BEGIN:STANDARD
TZOFFSETFROM:+0200
TZOFFSETTO:+0100
TZNAME:CET
DTSTART:20221030T010000
END:STANDARD
END:VTIMEZONE
BEGIN:VEVENT
DTSTART;TZID=Europe/Madrid:20210325T180000
DTEND;TZID=Europe/Madrid:20210325T200000
DTSTAMP:20260425T230018
CREATED:20210318T093610Z
LAST-MODIFIED:20210318T093610Z
UID:3947-1616695200-1616702400@www.cafincas.org
SUMMARY:Cursos Primavera Webinar 2021: Mediación\, resolución de casos de actividades molestas en comunidades de propietarios
DESCRIPTION:Debe estar identificado para acceder a esta sección\n 
URL:https://www.cafincas.org/event/cursos-primavera-webinar-2021-mediacion-resolucion-de-casos-de-actividades-molestas-en-comunidades-de-propietarios/
CATEGORIES:Consejo
END:VEVENT
BEGIN:VEVENT
DTSTART;TZID=Europe/Madrid:20210325T190000
DTEND;TZID=Europe/Madrid:20210325T210000
DTSTAMP:20260425T230018
CREATED:20210317T191345Z
LAST-MODIFIED:20210319T101639Z
UID:3934-1616698800-1616706000@www.cafincas.org
SUMMARY:CAF ALMERIA. RECLAMACIONES A MOROSOS EN ESTADO DE PANDEMIA
DESCRIPTION:Debe estar identificado para acceder a esta sección\n 
URL:https://www.cafincas.org/event/curso-basico-de-propiedad-horizontal/
CATEGORIES:Consejo
END:VEVENT
END:VCALENDAR