BEGIN:VCALENDAR
VERSION:2.0
PRODID:-//Consejo Andaluz de Administradores de Fincas - ECPv6.15.20//NONSGML v1.0//EN
CALSCALE:GREGORIAN
METHOD:PUBLISH
X-ORIGINAL-URL:https://www.cafincas.org
X-WR-CALDESC:Eventos para Consejo Andaluz de Administradores de Fincas
REFRESH-INTERVAL;VALUE=DURATION:PT1H
X-Robots-Tag:noindex
X-PUBLISHED-TTL:PT1H
BEGIN:VTIMEZONE
TZID:Europe/Madrid
BEGIN:DAYLIGHT
TZOFFSETFROM:+0100
TZOFFSETTO:+0200
TZNAME:CEST
DTSTART:20200329T010000
END:DAYLIGHT
BEGIN:STANDARD
TZOFFSETFROM:+0200
TZOFFSETTO:+0100
TZNAME:CET
DTSTART:20201025T010000
END:STANDARD
BEGIN:DAYLIGHT
TZOFFSETFROM:+0100
TZOFFSETTO:+0200
TZNAME:CEST
DTSTART:20210328T010000
END:DAYLIGHT
BEGIN:STANDARD
TZOFFSETFROM:+0200
TZOFFSETTO:+0100
TZNAME:CET
DTSTART:20211031T010000
END:STANDARD
BEGIN:DAYLIGHT
TZOFFSETFROM:+0100
TZOFFSETTO:+0200
TZNAME:CEST
DTSTART:20220327T010000
END:DAYLIGHT
BEGIN:STANDARD
TZOFFSETFROM:+0200
TZOFFSETTO:+0100
TZNAME:CET
DTSTART:20221030T010000
END:STANDARD
END:VTIMEZONE
BEGIN:VEVENT
DTSTART;TZID=Europe/Madrid:20211015T130000
DTEND;TZID=Europe/Madrid:20211015T150000
DTSTAMP:20260423T201659
CREATED:20211004T081025Z
LAST-MODIFIED:20220216T070626Z
UID:4323-1634302800-1634310000@www.cafincas.org
SUMMARY:COAF HUELVA: FORMACION "DEFENSA Y ARGUMENTACION DEL PRECIO EN EL SRVICIO DEL ADMINISTRADOR DE FINCAS" POR SILVIA ELENA GARCIA GARCIA - WEBIMAR
DESCRIPTION:Debe estar identificado para acceder a esta sección\n 
URL:https://www.cafincas.org/event/caf-huelva-formacion-defensa-y-argumentacion-del-precio-en-el-srvicio-del-administrador-de-fincas-por-silvia-elena-garcia-garcia-webimar/
CATEGORIES:Consejo
END:VEVENT
END:VCALENDAR