BEGIN:VCALENDAR
VERSION:2.0
PRODID:-//Consejo Andaluz de Administradores de Fincas - ECPv6.15.20//NONSGML v1.0//EN
CALSCALE:GREGORIAN
METHOD:PUBLISH
X-ORIGINAL-URL:https://www.cafincas.org
X-WR-CALDESC:Eventos para Consejo Andaluz de Administradores de Fincas
REFRESH-INTERVAL;VALUE=DURATION:PT1H
X-Robots-Tag:noindex
X-PUBLISHED-TTL:PT1H
BEGIN:VTIMEZONE
TZID:Europe/Madrid
BEGIN:DAYLIGHT
TZOFFSETFROM:+0100
TZOFFSETTO:+0200
TZNAME:CEST
DTSTART:20200329T010000
END:DAYLIGHT
BEGIN:STANDARD
TZOFFSETFROM:+0200
TZOFFSETTO:+0100
TZNAME:CET
DTSTART:20201025T010000
END:STANDARD
BEGIN:DAYLIGHT
TZOFFSETFROM:+0100
TZOFFSETTO:+0200
TZNAME:CEST
DTSTART:20210328T010000
END:DAYLIGHT
BEGIN:STANDARD
TZOFFSETFROM:+0200
TZOFFSETTO:+0100
TZNAME:CET
DTSTART:20211031T010000
END:STANDARD
BEGIN:DAYLIGHT
TZOFFSETFROM:+0100
TZOFFSETTO:+0200
TZNAME:CEST
DTSTART:20220327T010000
END:DAYLIGHT
BEGIN:STANDARD
TZOFFSETFROM:+0200
TZOFFSETTO:+0100
TZNAME:CET
DTSTART:20221030T010000
END:STANDARD
END:VTIMEZONE
BEGIN:VEVENT
DTSTART;VALUE=DATE:20211126
DTEND;VALUE=DATE:20211128
DTSTAMP:20260423T174122
CREATED:20211026T051000Z
LAST-MODIFIED:20220216T070602Z
UID:4362-1637888400-1637974799@www.cafincas.org
SUMMARY:COAF HUELVA "TALLER DEL COLABORADOR"
DESCRIPTION:Debe estar identificado para acceder a esta sección\n 
URL:https://www.cafincas.org/event/caf-huelva-taller-del-colaborador/
LOCATION:Sala Juan Ramón Jiménez Fundación Cajasol
CATEGORIES:Consejo
END:VEVENT
BEGIN:VEVENT
DTSTART;TZID=Europe/Madrid:20211126T153000
DTEND;TZID=Europe/Madrid:20211126T180000
DTSTAMP:20260423T174122
CREATED:20211102T085519Z
LAST-MODIFIED:20220216T070540Z
UID:4375-1637940600-1637949600@www.cafincas.org
SUMMARY:COAF HUELVA ALMUERZO CONVIVENCIA XVII ANIVERSARIO
DESCRIPTION:Debe estar identificado para acceder a esta sección\n 
URL:https://www.cafincas.org/event/caf-huelva-almuerzo-convivencia-xvii-aniversario/
CATEGORIES:Consejo
END:VEVENT
END:VCALENDAR